BEGIN:VCALENDAR
VERSION:2.0
PRODID:-//Saint-Leu Terre d&#039;Empire - ECPv6.15.13.1//NONSGML v1.0//EN
CALSCALE:GREGORIAN
METHOD:PUBLISH
X-WR-CALNAME:Saint-Leu Terre d&#039;Empire
X-ORIGINAL-URL:https://saintleuterredempire.com
X-WR-CALDESC:Évènements pour Saint-Leu Terre d&#039;Empire
REFRESH-INTERVAL;VALUE=DURATION:PT1H
X-Robots-Tag:noindex
X-PUBLISHED-TTL:PT1H
BEGIN:VTIMEZONE
TZID:Europe/Paris
BEGIN:DAYLIGHT
TZOFFSETFROM:+0100
TZOFFSETTO:+0200
TZNAME:CEST
DTSTART:20240331T010000
END:DAYLIGHT
BEGIN:STANDARD
TZOFFSETFROM:+0200
TZOFFSETTO:+0100
TZNAME:CET
DTSTART:20241027T010000
END:STANDARD
BEGIN:DAYLIGHT
TZOFFSETFROM:+0100
TZOFFSETTO:+0200
TZNAME:CEST
DTSTART:20250330T010000
END:DAYLIGHT
BEGIN:STANDARD
TZOFFSETFROM:+0200
TZOFFSETTO:+0100
TZNAME:CET
DTSTART:20251026T010000
END:STANDARD
BEGIN:DAYLIGHT
TZOFFSETFROM:+0100
TZOFFSETTO:+0200
TZNAME:CEST
DTSTART:20260329T010000
END:DAYLIGHT
BEGIN:STANDARD
TZOFFSETFROM:+0200
TZOFFSETTO:+0100
TZNAME:CET
DTSTART:20261025T010000
END:STANDARD
END:VTIMEZONE
BEGIN:VEVENT
DTSTART;TZID=Europe/Paris:20250614T170000
DTEND;TZID=Europe/Paris:20250614T183000
DTSTAMP:20260422T074139
CREATED:20240912T080423Z
LAST-MODIFIED:20250302T093226Z
UID:5079-1749920400-1749925800@saintleuterredempire.com
SUMMARY:Napoléon par les peintres
DESCRIPTION:  \nConférence illustrée par David Chanteranne \nInfluencé par l’Antiquité grecque et romaine\, le néoclassicisme s’impose dans la peinture dès la fin de l’Ancien Régime et les artistes mettent leur talent au service du pouvoir\, républicain\, consulaire puis impérial. Mais d’autres courants apparaissent\, que les représentations de Napoléon accompagnent parfaitement. Cette conférence rappellera les créations et évolutions majeures de l’art pictural\, à travers les portraits célèbres du héros et les scènes majeures de l’épopée napoléonienne. \n  \nHistorien\, rédacteur en chef de la Revue du Souvenir Napoléonien\, David Chanteranne est directeur des sites patrimoniaux de la ville de Rueil-Malmaison. Il est l’auteur de nombreux ouvrages\, dont Les douze morts de Napoléon (Alpha\, 2023) et Chroniques des territoires\, comment les régions ont construit la nation (Passés composés). \nInscription
URL:https://saintleuterredempire.com/evenement/napoleon-par-les-peintres/
CATEGORIES:2025 Conférences,Conférences
ATTACH;FMTTYPE=image/png:https://saintleuterredempire.com/wp-content/uploads/2024/09/Affiche-Napoleon-par-les-peintres-14-Juin-25-JF160924.png
ORGANIZER;CN="JF Maizi%C3%A8re":MAILTO:slte95320@gmail.com
END:VEVENT
END:VCALENDAR