BEGIN:VCALENDAR
VERSION:2.0
PRODID:-//Saint-Leu Terre d&#039;Empire - ECPv6.15.13.1//NONSGML v1.0//EN
CALSCALE:GREGORIAN
METHOD:PUBLISH
X-WR-CALNAME:Saint-Leu Terre d&#039;Empire
X-ORIGINAL-URL:https://saintleuterredempire.com
X-WR-CALDESC:Évènements pour Saint-Leu Terre d&#039;Empire
REFRESH-INTERVAL;VALUE=DURATION:PT1H
X-Robots-Tag:noindex
X-PUBLISHED-TTL:PT1H
BEGIN:VTIMEZONE
TZID:Europe/Paris
BEGIN:DAYLIGHT
TZOFFSETFROM:+0100
TZOFFSETTO:+0200
TZNAME:CEST
DTSTART:20250330T010000
END:DAYLIGHT
BEGIN:STANDARD
TZOFFSETFROM:+0200
TZOFFSETTO:+0100
TZNAME:CET
DTSTART:20251026T010000
END:STANDARD
BEGIN:DAYLIGHT
TZOFFSETFROM:+0100
TZOFFSETTO:+0200
TZNAME:CEST
DTSTART:20260329T010000
END:DAYLIGHT
BEGIN:STANDARD
TZOFFSETFROM:+0200
TZOFFSETTO:+0100
TZNAME:CET
DTSTART:20261025T010000
END:STANDARD
BEGIN:DAYLIGHT
TZOFFSETFROM:+0100
TZOFFSETTO:+0200
TZNAME:CEST
DTSTART:20270328T010000
END:DAYLIGHT
BEGIN:STANDARD
TZOFFSETFROM:+0200
TZOFFSETTO:+0100
TZNAME:CET
DTSTART:20271031T010000
END:STANDARD
END:VTIMEZONE
BEGIN:VEVENT
DTSTART;TZID=Europe/Paris:20260606T170000
DTEND;TZID=Europe/Paris:20260606T170000
DTSTAMP:20260421T174409
CREATED:20250627T150132Z
LAST-MODIFIED:20250627T150153Z
UID:6356-1780765200-1780765200@saintleuterredempire.com
SUMMARY:Titre de la conférence communiqué prochainement
DESCRIPTION:Titre de la conférence communiqué prochainement \n  \nInscription
URL:https://saintleuterredempire.com/evenement/titre-de-la-conference-communique-prochainement-3/
CATEGORIES:2026 Conférences,Conférences
ORGANIZER;CN="Annie Miron":MAILTO:mironannie@sfr.fr
END:VEVENT
END:VCALENDAR