BEGIN:VCALENDAR
VERSION:2.0
PRODID:-//Saint-Leu Terre d&#039;Empire - ECPv6.15.13.1//NONSGML v1.0//EN
CALSCALE:GREGORIAN
METHOD:PUBLISH
X-WR-CALNAME:Saint-Leu Terre d&#039;Empire
X-ORIGINAL-URL:https://saintleuterredempire.com
X-WR-CALDESC:Évènements pour Saint-Leu Terre d&#039;Empire
REFRESH-INTERVAL;VALUE=DURATION:PT1H
X-Robots-Tag:noindex
X-PUBLISHED-TTL:PT1H
BEGIN:VTIMEZONE
TZID:Europe/Paris
BEGIN:DAYLIGHT
TZOFFSETFROM:+0100
TZOFFSETTO:+0200
TZNAME:CEST
DTSTART:20230326T010000
END:DAYLIGHT
BEGIN:STANDARD
TZOFFSETFROM:+0200
TZOFFSETTO:+0100
TZNAME:CET
DTSTART:20231029T010000
END:STANDARD
BEGIN:DAYLIGHT
TZOFFSETFROM:+0100
TZOFFSETTO:+0200
TZNAME:CEST
DTSTART:20240331T010000
END:DAYLIGHT
BEGIN:STANDARD
TZOFFSETFROM:+0200
TZOFFSETTO:+0100
TZNAME:CET
DTSTART:20241027T010000
END:STANDARD
BEGIN:DAYLIGHT
TZOFFSETFROM:+0100
TZOFFSETTO:+0200
TZNAME:CEST
DTSTART:20250330T010000
END:DAYLIGHT
BEGIN:STANDARD
TZOFFSETFROM:+0200
TZOFFSETTO:+0100
TZNAME:CET
DTSTART:20251026T010000
END:STANDARD
END:VTIMEZONE
BEGIN:VEVENT
DTSTART;TZID=Europe/Paris:20241005T100000
DTEND;TZID=Europe/Paris:20241005T110000
DTSTAMP:20260425T031416
CREATED:20240918T135057Z
LAST-MODIFIED:20241001T063109Z
UID:5104-1728122400-1728126000@saintleuterredempire.com
SUMMARY:Visite du Samedi 5 Octobre  de 10h ->
DESCRIPTION:Inscription
URL:https://saintleuterredempire.com/evenement/visite-du-4-octobre-de-10h/
LOCATION:Église Saint-Leu-Saint Gilles\, Église Saint-Leu-Saint Gilles\, Saint-Leu-La-Forêt\, Val d'Oise\, 95320\, France
CATEGORIES:Visites Crypte Impériale / Église
ORGANIZER;CN="JF Maizi%C3%A8re":MAILTO:slte95320@gmail.com
END:VEVENT
BEGIN:VEVENT
DTSTART;TZID=Europe/Paris:20241005T110000
DTEND;TZID=Europe/Paris:20241005T120000
DTSTAMP:20260425T031416
CREATED:20240918T135139Z
LAST-MODIFIED:20241001T063039Z
UID:5106-1728126000-1728129600@saintleuterredempire.com
SUMMARY:Visite du Samedi 5 Octobre de 11h ->
DESCRIPTION:Inscription
URL:https://saintleuterredempire.com/evenement/visite-du-4-octobre-de-11h/
LOCATION:Église Saint-Leu-Saint Gilles\, Église Saint-Leu-Saint Gilles\, Saint-Leu-La-Forêt\, Val d'Oise\, 95320\, France
CATEGORIES:Visites Crypte Impériale / Église
ORGANIZER;CN="JF Maizi%C3%A8re":MAILTO:slte95320@gmail.com
END:VEVENT
BEGIN:VEVENT
DTSTART;TZID=Europe/Paris:20241005T170000
DTEND;TZID=Europe/Paris:20241005T183000
DTSTAMP:20260425T031416
CREATED:20240619T185633Z
LAST-MODIFIED:20240918T134750Z
UID:4073-1728147600-1728153000@saintleuterredempire.com
SUMMARY:La colonne Vendôme et l'Arc de Triomphe ->
DESCRIPTION:  \nConférence illustrée par Jean-François Maizière et Guy Barat  \nDeux monuments qui témoignent de la grandeur napoléonienne et du Premier Empire. Situés sur des places prestigieuses ils se dressent\, fiers et impériaux\,  comme autant de symboles de notre passé glorieux. \nChacun d’entre eux a connu des vicissitudes mais y a survécu\, c’est le cas surtout pour la Colonne Vendôme érigée\, abattue puis reconstruite. Les touristes se pressent pour les admirer mais les Français\, les connaissent-ils ? \nCette conférence de fin d’année est là pour faire le point\, rafraîchir les mémoires ou tout simplement donner envie d’aller sur place pour admirer ces deux témoins d’une époque prestigieuse. \nInscription
URL:https://saintleuterredempire.com/evenement/conference-octobre/
CATEGORIES:2024 Conférences,Conférences
ATTACH;FMTTYPE=image/png:https://saintleuterredempire.com/wp-content/uploads/2024/06/image001.png
ORGANIZER;CN="Guy Barat":MAILTO:baratguy95@orange.fr
END:VEVENT
BEGIN:VEVENT
DTSTART;TZID=Europe/Paris:20241017T140000
DTEND;TZID=Europe/Paris:20241017T163000
DTSTAMP:20260425T031416
CREATED:20241007T082534Z
LAST-MODIFIED:20241015T080056Z
UID:5196-1729173600-1729182600@saintleuterredempire.com
SUMMARY:Visite scolaire - Ecole Marie Curie
DESCRIPTION:
URL:https://saintleuterredempire.com/evenement/visite-scolaire-ecole-marie-curie/
LOCATION:Église Saint-Leu-Saint Gilles\, Église Saint-Leu-Saint Gilles\, Saint-Leu-La-Forêt\, Val d'Oise\, 95320\, France
CATEGORIES:Visites Crypte Impériale / Église,Visites de la Crypte - Scolaires
ATTACH;FMTTYPE=image/jpeg:https://saintleuterredempire.com/wp-content/uploads/2024/06/Crypte-Imperiale-2022.jpg
ORGANIZER;CN="JF Maizi%C3%A8re":MAILTO:slte95320@gmail.com
END:VEVENT
END:VCALENDAR