BEGIN:VCALENDAR
VERSION:2.0
PRODID:-//Saint-Leu Terre d&#039;Empire - ECPv6.15.13.1//NONSGML v1.0//EN
CALSCALE:GREGORIAN
METHOD:PUBLISH
X-WR-CALNAME:Saint-Leu Terre d&#039;Empire
X-ORIGINAL-URL:https://saintleuterredempire.com
X-WR-CALDESC:Évènements pour Saint-Leu Terre d&#039;Empire
REFRESH-INTERVAL;VALUE=DURATION:PT1H
X-Robots-Tag:noindex
X-PUBLISHED-TTL:PT1H
BEGIN:VTIMEZONE
TZID:Europe/Paris
BEGIN:DAYLIGHT
TZOFFSETFROM:+0100
TZOFFSETTO:+0200
TZNAME:CEST
DTSTART:20230326T010000
END:DAYLIGHT
BEGIN:STANDARD
TZOFFSETFROM:+0200
TZOFFSETTO:+0100
TZNAME:CET
DTSTART:20231029T010000
END:STANDARD
BEGIN:DAYLIGHT
TZOFFSETFROM:+0100
TZOFFSETTO:+0200
TZNAME:CEST
DTSTART:20240331T010000
END:DAYLIGHT
BEGIN:STANDARD
TZOFFSETFROM:+0200
TZOFFSETTO:+0100
TZNAME:CET
DTSTART:20241027T010000
END:STANDARD
BEGIN:DAYLIGHT
TZOFFSETFROM:+0100
TZOFFSETTO:+0200
TZNAME:CEST
DTSTART:20250330T010000
END:DAYLIGHT
BEGIN:STANDARD
TZOFFSETFROM:+0200
TZOFFSETTO:+0100
TZNAME:CET
DTSTART:20251026T010000
END:STANDARD
END:VTIMEZONE
BEGIN:VEVENT
DTSTART;TZID=Europe/Paris:20241102T100000
DTEND;TZID=Europe/Paris:20241102T110000
DTSTAMP:20260425T013217
CREATED:20241002T062508Z
LAST-MODIFIED:20241015T075617Z
UID:5124-1730541600-1730545200@saintleuterredempire.com
SUMMARY:Visite du Samedi 2 novembre  de 10h ->
DESCRIPTION:Inscription
URL:https://saintleuterredempire.com/evenement/visite-du-samedi-2-novembre-de-10h/
LOCATION:Église Saint-Leu-Saint Gilles\, Église Saint-Leu-Saint Gilles\, Saint-Leu-La-Forêt\, Val d'Oise\, 95320\, France
CATEGORIES:Visites Crypte Impériale / Église
ATTACH;FMTTYPE=image/png:https://saintleuterredempire.com/wp-content/uploads/2024/07/Crypte-11-06-24-V2-JFM.png
ORGANIZER;CN="Guy Barat":MAILTO:baratguy95@orange.fr
END:VEVENT
BEGIN:VEVENT
DTSTART;TZID=Europe/Paris:20241102T110000
DTEND;TZID=Europe/Paris:20241102T120000
DTSTAMP:20260425T013217
CREATED:20241002T062419Z
LAST-MODIFIED:20241015T075659Z
UID:5122-1730545200-1730548800@saintleuterredempire.com
SUMMARY:Visite du Samedi 2 novembre de 11h ->
DESCRIPTION:Inscription
URL:https://saintleuterredempire.com/evenement/visite-du-samedi-2-novembre-de-11h/
LOCATION:Église Saint-Leu-Saint Gilles\, Église Saint-Leu-Saint Gilles\, Saint-Leu-La-Forêt\, Val d'Oise\, 95320\, France
CATEGORIES:Visites Crypte Impériale / Église
ATTACH;FMTTYPE=image/png:https://saintleuterredempire.com/wp-content/uploads/2024/07/Crypte-11-06-24-V2-JFM.png
ORGANIZER;CN="Guy Barat":MAILTO:baratguy95@orange.fr
END:VEVENT
BEGIN:VEVENT
DTSTART;TZID=Europe/Paris:20241117T094500
DTEND;TZID=Europe/Paris:20241117T113000
DTSTAMP:20260425T013217
CREATED:20241008T060740Z
LAST-MODIFIED:20250218T103955Z
UID:5220-1731836700-1731843000@saintleuterredempire.com
SUMMARY:Hôtel de la Païva
DESCRIPTION:Le Saviez – vous ?  \n L’hôtel de la Païva est un hôtel particulier parisien construit entre 1856 et 1865 au 25\, avenue des Champs-Élysées par la Païva\, née Esther Lachman (1819–1884)\, aventurière russe d’origine polonaise très modeste\, devenue marquise portugaise\, puis comtesse prussienne. Elle y donnait des fêtes restées célèbres. \nEn 1903\, l’ancienne demeure luxueuse devient le siège du Travellers Club\, un gentlemen’s club fondé la même année ; le club acquiert l’hôtel en 1923 et en est toujours propriétaire. L’hôtel de la Païva a été classé au titre des monuments historiques en 19801. ( Source – Wikipedia) \n(Image – Source : Anthony Rauchen) \n  \n 
URL:https://saintleuterredempire.com/evenement/hotel-de-la-paiva/
LOCATION:Hôtel de la Païva\, 25 Avenue des champs elysées\, Paris\, Sélectionner un État :\, 75016\, France
CATEGORIES:2024 Evenements Spéciaux,Évènements spéciaux
ATTACH;FMTTYPE=image/jpeg:https://saintleuterredempire.com/wp-content/uploads/2024/10/Salle_a_manger_hotel_de_la_Paiva-Anthonye-RAuchen-.jpg
ORGANIZER;CN="Annie Miron":MAILTO:mironannie@sfr.fr
END:VEVENT
END:VCALENDAR