BEGIN:VCALENDAR
VERSION:2.0
PRODID:-//Saint-Leu Terre d&#039;Empire - ECPv6.15.13.1//NONSGML v1.0//EN
CALSCALE:GREGORIAN
METHOD:PUBLISH
X-WR-CALNAME:Saint-Leu Terre d&#039;Empire
X-ORIGINAL-URL:https://saintleuterredempire.com
X-WR-CALDESC:Évènements pour Saint-Leu Terre d&#039;Empire
REFRESH-INTERVAL;VALUE=DURATION:PT1H
X-Robots-Tag:noindex
X-PUBLISHED-TTL:PT1H
BEGIN:VTIMEZONE
TZID:Europe/Paris
BEGIN:DAYLIGHT
TZOFFSETFROM:+0100
TZOFFSETTO:+0200
TZNAME:CEST
DTSTART:20230326T010000
END:DAYLIGHT
BEGIN:STANDARD
TZOFFSETFROM:+0200
TZOFFSETTO:+0100
TZNAME:CET
DTSTART:20231029T010000
END:STANDARD
BEGIN:DAYLIGHT
TZOFFSETFROM:+0100
TZOFFSETTO:+0200
TZNAME:CEST
DTSTART:20240331T010000
END:DAYLIGHT
BEGIN:STANDARD
TZOFFSETFROM:+0200
TZOFFSETTO:+0100
TZNAME:CET
DTSTART:20241027T010000
END:STANDARD
BEGIN:DAYLIGHT
TZOFFSETFROM:+0100
TZOFFSETTO:+0200
TZNAME:CEST
DTSTART:20250330T010000
END:DAYLIGHT
BEGIN:STANDARD
TZOFFSETFROM:+0200
TZOFFSETTO:+0100
TZNAME:CET
DTSTART:20251026T010000
END:STANDARD
END:VTIMEZONE
BEGIN:VEVENT
DTSTART;TZID=Europe/Paris:20241207T100000
DTEND;TZID=Europe/Paris:20241207T110000
DTSTAMP:20260424T233702
CREATED:20241002T062633Z
LAST-MODIFIED:20241015T075908Z
UID:5128-1733565600-1733569200@saintleuterredempire.com
SUMMARY:Visite du Samedi 7 décembre  de 10h ->
DESCRIPTION:Inscription
URL:https://saintleuterredempire.com/evenement/visite-du-samedi-7-decembre-de-10h/
LOCATION:Église Saint-Leu-Saint Gilles\, Église Saint-Leu-Saint Gilles\, Saint-Leu-La-Forêt\, Val d'Oise\, 95320\, France
CATEGORIES:Visites Crypte Impériale / Église
ATTACH;FMTTYPE=image/png:https://saintleuterredempire.com/wp-content/uploads/2024/07/Crypte-11-06-24-V2-JFM.png
ORGANIZER;CN="JF Maizi%C3%A8re":MAILTO:slte95320@gmail.com
END:VEVENT
BEGIN:VEVENT
DTSTART;TZID=Europe/Paris:20241207T110000
DTEND;TZID=Europe/Paris:20241207T120000
DTSTAMP:20260424T233702
CREATED:20241002T062555Z
LAST-MODIFIED:20241015T075931Z
UID:5126-1733569200-1733572800@saintleuterredempire.com
SUMMARY:Visite du Samedi 7 décembre de 11h ->
DESCRIPTION:Inscription
URL:https://saintleuterredempire.com/evenement/visite-du-samedi-7-decembre-de-11h/
LOCATION:Église Saint-Leu-Saint Gilles\, Église Saint-Leu-Saint Gilles\, Saint-Leu-La-Forêt\, Val d'Oise\, 95320\, France
CATEGORIES:Visites Crypte Impériale / Église
ATTACH;FMTTYPE=image/png:https://saintleuterredempire.com/wp-content/uploads/2024/07/Crypte-11-06-24-V2-JFM.png
ORGANIZER;CN="JF Maizi%C3%A8re":MAILTO:slte95320@gmail.com
END:VEVENT
BEGIN:VEVENT
DTSTART;TZID=Europe/Paris:20241207T170000
DTEND;TZID=Europe/Paris:20241207T183000
DTSTAMP:20260424T233702
CREATED:20240628T011104Z
LAST-MODIFIED:20241015T071207Z
UID:4532-1733590800-1733596200@saintleuterredempire.com
SUMMARY:Le duc de Morny était-il un homme perfide ? ->
DESCRIPTION:Conférence illustrée par Rémy Daniel \nMorny \, reste impliqué dans nombres d’affaires\, parfois scandaleuses\, mais son dynamismes ne sera arrêté que par la maladie\, le 10 mars 1865 \nFils de reine\, demi frère de d’empereur et petit fils de Talleyrand\, le comte puis duc de Morny\, eut un destin exceptionnel\, marqué par les grands événements politiques comme économiques de la France du XIXe siècle. \nConférencier\, Rémy Daniel\, adhérent de Saint-Leu Terre d Empire  et du Souvenir Napoléonien Ile de France \nInscription
URL:https://saintleuterredempire.com/evenement/le-duc-de-morny-etait-il-un-homme-perfide/
CATEGORIES:2024 Conférences,Conférences
ATTACH;FMTTYPE=image/png:https://saintleuterredempire.com/wp-content/uploads/2024/06/7-Dec-24-Conf-Morny-Affiche-VF-.png
ORGANIZER;CN="Annie Miron":MAILTO:mironannie@sfr.fr
END:VEVENT
BEGIN:VEVENT
DTSTART;TZID=Europe/Paris:20241210T093000
DTEND;TZID=Europe/Paris:20241210T113000
DTSTAMP:20260424T233702
CREATED:20241002T073426Z
LAST-MODIFIED:20250218T123501Z
UID:5183-1733823000-1733830200@saintleuterredempire.com
SUMMARY:Sur les traces de la Princesse Mathilde à Saint-Gratien
DESCRIPTION:Le Saviez – vous ?  \n  \n  \nMathilde Letizia Bonaparte\, dite « La princesse Mathilde »\, nièce de Napoléon 1er\, fille de Jérôme Bonaparte et de la princesse Catherine de Wurtemberg\, \nvécut de nombreuses années dans la commune voisine de Saint-Gratien. \n  \nFiancée en 1835 à son cousin Louis-Napoléon Bonaparte (futur Napoléon III)\, elle y acquit en 1851 l’ancien château du comte de Lucay\, \npuis en 1856\, celui du maréchal de Catinat. \n \nAnnée après année\, elle agrandit son domaine\, qui atteignit près de 28 hectares en 1869. \nBienfaitrice de la commune\, la Princesse y passa de nombreux étés entourée de ses amis écrivains et hommes politiques tels que Paul Bourget\, les frères Goncourt\, Gustave Flaubert ou encore Tourgueniev. \n \nSt-Leu Terre d’Empire\, en collaboration avec François Paget de l’Association ASGVO (Aimons Saint-Gratien en Val d’Oise)\, invite ses adhérents\, à marcher sur les traces de la princesse\, dans la ville où elle repose désormais. \n  \nAu menu de cette balade : \n  \n\nAccueil sur la Place de la Mairie- Introduction \nPrésentation du château de la princesse Mathilde (transformé aujourd’hui en bâtiment privé d’habitation)\,\nSous réserve: rapide passage à la mairie de Saint-Gratien ( tableau d’Eugène Giraud\, salle des mariages)\,\nPrésentation du château Catinat\,\nVisite de l’église de Saint-Gratien\,  (où repose la Princesse)\,\nVente et dédicace du  livre de François PAGET : « Saint-Gratien au fil du temps\, »\nPour ceux qui le souhaitent\, détour par le petit lac (ancien embarcadère de la princesse).
URL:https://saintleuterredempire.com/evenement/sur-les-traces-de-la-princesse-mathilde-a-saint-gratien/
LOCATION:Place de la Mairie de St-Gratien\, place Gambetta\, Saint-Gratien\, france\, 95210\, France
CATEGORIES:2024 Evenements Spéciaux,Évènements spéciaux
ATTACH;FMTTYPE=image/jpeg:https://saintleuterredempire.com/wp-content/uploads/2024/10/Chateau-Princesse-Mathilde.jpg
ORGANIZER;CN="JF Maizi%C3%A8re":MAILTO:slte95320@gmail.com
END:VEVENT
END:VCALENDAR