BEGIN:VCALENDAR
VERSION:2.0
PRODID:-//Saint-Leu Terre d&#039;Empire - ECPv6.15.13.1//NONSGML v1.0//EN
CALSCALE:GREGORIAN
METHOD:PUBLISH
X-WR-CALNAME:Saint-Leu Terre d&#039;Empire
X-ORIGINAL-URL:https://saintleuterredempire.com
X-WR-CALDESC:Évènements pour Saint-Leu Terre d&#039;Empire
REFRESH-INTERVAL;VALUE=DURATION:PT1H
X-Robots-Tag:noindex
X-PUBLISHED-TTL:PT1H
BEGIN:VTIMEZONE
TZID:Europe/Paris
BEGIN:DAYLIGHT
TZOFFSETFROM:+0100
TZOFFSETTO:+0200
TZNAME:CEST
DTSTART:20240331T010000
END:DAYLIGHT
BEGIN:STANDARD
TZOFFSETFROM:+0200
TZOFFSETTO:+0100
TZNAME:CET
DTSTART:20241027T010000
END:STANDARD
BEGIN:DAYLIGHT
TZOFFSETFROM:+0100
TZOFFSETTO:+0200
TZNAME:CEST
DTSTART:20250330T010000
END:DAYLIGHT
BEGIN:STANDARD
TZOFFSETFROM:+0200
TZOFFSETTO:+0100
TZNAME:CET
DTSTART:20251026T010000
END:STANDARD
BEGIN:DAYLIGHT
TZOFFSETFROM:+0100
TZOFFSETTO:+0200
TZNAME:CEST
DTSTART:20260329T010000
END:DAYLIGHT
BEGIN:STANDARD
TZOFFSETFROM:+0200
TZOFFSETTO:+0100
TZNAME:CET
DTSTART:20261025T010000
END:STANDARD
END:VTIMEZONE
BEGIN:VEVENT
DTSTART;TZID=Europe/Paris:20250403T140000
DTEND;TZID=Europe/Paris:20250403T163000
DTSTAMP:20260424T164156
CREATED:20250127T124219Z
LAST-MODIFIED:20250331T090617Z
UID:5932-1743688800-1743697800@saintleuterredempire.com
SUMMARY:Visite "Parcours Impérial"  - 3 avril 2025-  Association  " Au Gré des Sentiers "
DESCRIPTION:
URL:https://saintleuterredempire.com/evenement/visite-crypte-eglise-3-avril-29025-association-au-gre-des-sentiers/
LOCATION:Église Saint-Leu-Saint Gilles\, Église Saint-Leu-Saint Gilles\, Saint-Leu-La-Forêt\, Val d'Oise\, 95320\, France
CATEGORIES:Visites Crypte Impériale / Église
ATTACH;FMTTYPE=image/png:https://saintleuterredempire.com/wp-content/uploads/2024/10/Parcours-imepriale-310325-.png
ORGANIZER;CN="JF Maizi%C3%A8re":MAILTO:slte95320@gmail.com
END:VEVENT
BEGIN:VEVENT
DTSTART;TZID=Europe/Paris:20250404T093000
DTEND;TZID=Europe/Paris:20250404T113000
DTSTAMP:20260424T164156
CREATED:20250311T053016Z
LAST-MODIFIED:20250331T062145Z
UID:6026-1743759000-1743766200@saintleuterredempire.com
SUMMARY:Visite "Eglise/ Crypte impériale"  - 5 avril 2025-  Association  " Aimons Saint-Gratien en Val d'Oise "
DESCRIPTION:l
URL:https://saintleuterredempire.com/evenement/visite-crypte-eglise-5-avril-2025-association-aimons-saint-gratien-en-val-doise/
LOCATION:Église Saint-Leu-Saint Gilles\, Église Saint-Leu-Saint Gilles\, Saint-Leu-La-Forêt\, Val d'Oise\, 95320\, France
CATEGORIES:Visites Crypte Impériale / Église
ATTACH;FMTTYPE=image/png:https://saintleuterredempire.com/wp-content/uploads/2024/07/Crypte-11-06-24-V2-JFM.png
ORGANIZER;CN="JF Maizi%C3%A8re":MAILTO:slte95320@gmail.com
END:VEVENT
BEGIN:VEVENT
DTSTART;TZID=Europe/Paris:20250405T100000
DTEND;TZID=Europe/Paris:20250405T110000
DTSTAMP:20260424T164156
CREATED:20241002T064421Z
LAST-MODIFIED:20250331T062319Z
UID:5144-1743847200-1743850800@saintleuterredempire.com
SUMMARY:Visite "Eglise/Crypte impériale" mensuelle du Samedi  5 avril  de 10h ->
DESCRIPTION:Inscription
URL:https://saintleuterredempire.com/evenement/visite-du-samedi-1-mars-de-10h-2/
LOCATION:Église Saint-Leu-Saint Gilles\, Église Saint-Leu-Saint Gilles\, Saint-Leu-La-Forêt\, Val d'Oise\, 95320\, France
CATEGORIES:Visites Crypte Impériale / Église
ATTACH;FMTTYPE=image/png:https://saintleuterredempire.com/wp-content/uploads/2024/07/Crypte-11-06-24-V2-JFM.png
ORGANIZER;CN="Guy Barat":MAILTO:baratguy95@orange.fr
END:VEVENT
BEGIN:VEVENT
DTSTART;TZID=Europe/Paris:20250405T110000
DTEND;TZID=Europe/Paris:20250405T120000
DTSTAMP:20260424T164156
CREATED:20241002T064235Z
LAST-MODIFIED:20250331T062359Z
UID:5141-1743850800-1743854400@saintleuterredempire.com
SUMMARY:Visite "Eglise/Crypte impériale" mensuelle du Samedi 5 avril de 11h ->
DESCRIPTION:Inscription
URL:https://saintleuterredempire.com/evenement/visite-du-samedi-1-mars-de-11h/
LOCATION:Église Saint-Leu-Saint Gilles\, Église Saint-Leu-Saint Gilles\, Saint-Leu-La-Forêt\, Val d'Oise\, 95320\, France
CATEGORIES:Visites Crypte Impériale / Église
ATTACH;FMTTYPE=image/png:https://saintleuterredempire.com/wp-content/uploads/2024/07/Crypte-11-06-24-V2-JFM.png
ORGANIZER;CN="Guy Barat":MAILTO:baratguy95@orange.fr
END:VEVENT
END:VCALENDAR