BEGIN:VCALENDAR
VERSION:2.0
PRODID:-//Saint-Leu Terre d&#039;Empire - ECPv6.15.13.1//NONSGML v1.0//EN
CALSCALE:GREGORIAN
METHOD:PUBLISH
X-ORIGINAL-URL:https://saintleuterredempire.com
X-WR-CALDESC:Évènements pour Saint-Leu Terre d&#039;Empire
REFRESH-INTERVAL;VALUE=DURATION:PT1H
X-Robots-Tag:noindex
X-PUBLISHED-TTL:PT1H
BEGIN:VTIMEZONE
TZID:Europe/Paris
BEGIN:DAYLIGHT
TZOFFSETFROM:+0100
TZOFFSETTO:+0200
TZNAME:CEST
DTSTART:20240331T010000
END:DAYLIGHT
BEGIN:STANDARD
TZOFFSETFROM:+0200
TZOFFSETTO:+0100
TZNAME:CET
DTSTART:20241027T010000
END:STANDARD
BEGIN:DAYLIGHT
TZOFFSETFROM:+0100
TZOFFSETTO:+0200
TZNAME:CEST
DTSTART:20250330T010000
END:DAYLIGHT
BEGIN:STANDARD
TZOFFSETFROM:+0200
TZOFFSETTO:+0100
TZNAME:CET
DTSTART:20251026T010000
END:STANDARD
BEGIN:DAYLIGHT
TZOFFSETFROM:+0100
TZOFFSETTO:+0200
TZNAME:CEST
DTSTART:20260329T010000
END:DAYLIGHT
BEGIN:STANDARD
TZOFFSETFROM:+0200
TZOFFSETTO:+0100
TZNAME:CET
DTSTART:20261025T010000
END:STANDARD
END:VTIMEZONE
BEGIN:VEVENT
DTSTART;TZID=Europe/Paris:20250906T100000
DTEND;TZID=Europe/Paris:20250906T180000
DTSTAMP:20260422T020418
CREATED:20241007T091437Z
LAST-MODIFIED:20250218T131151Z
UID:5214-1757152800-1757181600@saintleuterredempire.com
SUMMARY:FORUM des Associations 2025 ->
DESCRIPTION:
URL:https://saintleuterredempire.com/evenement/forum-des-associations-2025/
LOCATION:Gymnase Jean Moulin\, 17 Av. des Diablots\,\, Saint-Leu-la-Forêt\, 95320\, France
CATEGORIES:2025 Evenements Spéciaux,Évènements spéciaux
ATTACH;FMTTYPE=image/jpeg:https://saintleuterredempire.com/wp-content/uploads/2024/07/forum-associations-2024-2.jpg
ORGANIZER;CN="Guy Barat":MAILTO:baratguy95@orange.fr
END:VEVENT
BEGIN:VEVENT
DTSTART;TZID=Europe/Paris:20250913T100000
DTEND;TZID=Europe/Paris:20250913T110000
DTSTAMP:20260422T020418
CREATED:20241002T065203Z
LAST-MODIFIED:20250627T145613Z
UID:5163-1757757600-1757761200@saintleuterredempire.com
SUMMARY:Visite "Eglise/Crypte impériale" mensuelle du Samedi  13 septembre de 10h ->
DESCRIPTION:Inscription
URL:https://saintleuterredempire.com/evenement/visite-du-samedi-6-septembre-de-10h/
LOCATION:Église Saint-Leu-Saint Gilles\, Église Saint-Leu-Saint Gilles\, Saint-Leu-La-Forêt\, Val d'Oise\, 95320\, France
CATEGORIES:Visites Crypte Impériale / Église
ATTACH;FMTTYPE=image/png:https://saintleuterredempire.com/wp-content/uploads/2024/07/Crypte-11-06-24-V2-JFM.png
ORGANIZER;CN="Guy Barat":MAILTO:baratguy95@orange.fr
END:VEVENT
BEGIN:VEVENT
DTSTART;TZID=Europe/Paris:20250913T110000
DTEND;TZID=Europe/Paris:20250913T120000
DTSTAMP:20260422T020418
CREATED:20241002T065236Z
LAST-MODIFIED:20250627T145532Z
UID:5165-1757761200-1757764800@saintleuterredempire.com
SUMMARY:Visite "Eglise/Crypte impériale" mensuelle du Samedi 13 septembre de 11h ->
DESCRIPTION:Inscription
URL:https://saintleuterredempire.com/evenement/visite-du-samedi-6-septembre-de-11h/
LOCATION:Église Saint-Leu-Saint Gilles\, Église Saint-Leu-Saint Gilles\, Saint-Leu-La-Forêt\, Val d'Oise\, 95320\, France
CATEGORIES:Visites Crypte Impériale / Église
ATTACH;FMTTYPE=image/png:https://saintleuterredempire.com/wp-content/uploads/2024/07/Crypte-11-06-24-V2-JFM.png
ORGANIZER;CN="Guy Barat":MAILTO:baratguy95@orange.fr
END:VEVENT
BEGIN:VEVENT
DTSTART;TZID=Europe/Paris:20250920T100000
DTEND;TZID=Europe/Paris:20250921T180000
DTSTAMP:20260422T020418
CREATED:20241007T091635Z
LAST-MODIFIED:20250218T103829Z
UID:5216-1758362400-1758477600@saintleuterredempire.com
SUMMARY:Journées Européennes du Patrimoine 2025  20-21 septembre 2025->
DESCRIPTION: 
URL:https://saintleuterredempire.com/evenement/journees-europeennes-du-patrimoine-2025-20-21-septembre-2025/
LOCATION:St-Leu\, Saint-Leu-La-Forêt\, Saint-Leu-La-Forêt\, Val d'Oise\, 95320\, France
CATEGORIES:2025 Evenements Spéciaux,Évènements spéciaux
ATTACH;FMTTYPE=image/jpeg:https://saintleuterredempire.com/wp-content/uploads/2024/06/73c7d19a1041-CVL-visuel-JEP-e1726668259485.jpg
ORGANIZER;CN="Guy Barat":MAILTO:baratguy95@orange.fr
END:VEVENT
END:VCALENDAR