BEGIN:VCALENDAR
VERSION:2.0
PRODID:-//Saint-Leu Terre d&#039;Empire - ECPv6.15.13.1//NONSGML v1.0//EN
CALSCALE:GREGORIAN
METHOD:PUBLISH
X-ORIGINAL-URL:https://saintleuterredempire.com
X-WR-CALDESC:Évènements pour Saint-Leu Terre d&#039;Empire
REFRESH-INTERVAL;VALUE=DURATION:PT1H
X-Robots-Tag:noindex
X-PUBLISHED-TTL:PT1H
BEGIN:VTIMEZONE
TZID:Europe/Paris
BEGIN:DAYLIGHT
TZOFFSETFROM:+0100
TZOFFSETTO:+0200
TZNAME:CEST
DTSTART:20240331T010000
END:DAYLIGHT
BEGIN:STANDARD
TZOFFSETFROM:+0200
TZOFFSETTO:+0100
TZNAME:CET
DTSTART:20241027T010000
END:STANDARD
BEGIN:DAYLIGHT
TZOFFSETFROM:+0100
TZOFFSETTO:+0200
TZNAME:CEST
DTSTART:20250330T010000
END:DAYLIGHT
BEGIN:STANDARD
TZOFFSETFROM:+0200
TZOFFSETTO:+0100
TZNAME:CET
DTSTART:20251026T010000
END:STANDARD
BEGIN:DAYLIGHT
TZOFFSETFROM:+0100
TZOFFSETTO:+0200
TZNAME:CEST
DTSTART:20260329T010000
END:DAYLIGHT
BEGIN:STANDARD
TZOFFSETFROM:+0200
TZOFFSETTO:+0100
TZNAME:CET
DTSTART:20261025T010000
END:STANDARD
END:VTIMEZONE
BEGIN:VEVENT
DTSTART;TZID=Europe/Paris:20251206T100000
DTEND;TZID=Europe/Paris:20251206T110000
DTSTAMP:20260421T205913
CREATED:20241002T065708Z
LAST-MODIFIED:20250627T145321Z
UID:5176-1765015200-1765018800@saintleuterredempire.com
SUMMARY:Visite "Eglise/Crypte impériale" mensuelle du Samedi  6 décembre de 10h ->
DESCRIPTION:Inscription
URL:https://saintleuterredempire.com/evenement/visite-du-samedi-6-decembre-de-10h/
LOCATION:Église Saint-Leu-Saint Gilles\, Église Saint-Leu-Saint Gilles\, Saint-Leu-La-Forêt\, Val d'Oise\, 95320\, France
CATEGORIES:Visites Crypte Impériale / Église
ATTACH;FMTTYPE=image/png:https://saintleuterredempire.com/wp-content/uploads/2024/07/Crypte-11-06-24-V2-JFM.png
ORGANIZER;CN="Guy Barat":MAILTO:baratguy95@orange.fr
END:VEVENT
BEGIN:VEVENT
DTSTART;TZID=Europe/Paris:20251206T110000
DTEND;TZID=Europe/Paris:20251206T120000
DTSTAMP:20260421T205913
CREATED:20241002T065733Z
LAST-MODIFIED:20250627T145242Z
UID:5178-1765018800-1765022400@saintleuterredempire.com
SUMMARY:Visite "Eglise/Crypte impériale" mensuelle du Samedi 6 décembre de 11h ->
DESCRIPTION:Savez vous que votre ville fait partie du réseau  » Ville Impériale – Napoléon et qu’elle recèle de nombreux trésors uniques\, sur le plan historique et patrimonial\, lié au passage des Bonaparte à St-Leu \n\n\n\nEn effet\, Louis Bonaparte\, frère de Napoléon 1er\, vécut quelques années dans le château de Ville de Saint-Leu-la Forêt avec son épouse Hortense de Beauharnais.\n\n\n\nVenez donc découvrir ces joyaux\, ! \n\n\n\nL’association Stleu Terre d’ Empire vous invite à découvrir samedi l’Eglise de Saint-Leu-La-Forêt et sa Crypte Impériale :\n\n\n– la Crypte Impériale. Vous y verrez les tombeaux de Charles Bonaparte\, (père de la dynastie) Bonaparte\, de son fils Louis Bonaparte\, (Roi de Hollande\, Comte de St-Leu\, et de ses deux premiers fils)\, Napoléon-Charles et Napoléon-Louis.\n\n\n\n– l’Eglise Saint-Gilles-Saint-Leu. Reconstruite en quelques mois sous l’impulsion de Louis-Napoléon\, alors Prince Président\, et futur empereur Napoléon III. Vous découvrirez son monument de marbre à la mémoire de son père Louis Bonaparte (Ce monument a été érigé\, comme demandé dans le testament de son père\, par Napoléon III\, dernier souverain de France.\n\n\n\nUn des Joyaux de la visite \, un magnifique orgue Cavaillé-Coll offert par Napoléon III et inauguré par lui-même en 1869.\n\n\nNe ratez pas cette occasion ! \n\n\n\n2 visites: 10.00 et 11.00.\n\nUne simple chose à faire \,\n\n\n\nS’ inscrire\n\n\nInscription
URL:https://saintleuterredempire.com/evenement/visite-du-samedi-6-decembre-de-11h/
LOCATION:Église Saint-Leu-Saint Gilles\, Église Saint-Leu-Saint Gilles\, Saint-Leu-La-Forêt\, Val d'Oise\, 95320\, France
CATEGORIES:Visites Crypte Impériale / Église
ATTACH;FMTTYPE=image/png:https://saintleuterredempire.com/wp-content/uploads/2024/07/Crypte-11-06-24-V2-JFM.png
ORGANIZER;CN="Guy Barat":MAILTO:baratguy95@orange.fr
END:VEVENT
END:VCALENDAR